BEGIN:VCALENDAR
VERSION:2.0
PRODID:-//Sharing Life Community Outreach - ECPv6.15.19//NONSGML v1.0//EN
CALSCALE:GREGORIAN
METHOD:PUBLISH
X-WR-CALNAME:Sharing Life Community Outreach
X-ORIGINAL-URL:https://sharing.life
X-WR-CALDESC:Events for Sharing Life Community Outreach
REFRESH-INTERVAL;VALUE=DURATION:PT1H
X-Robots-Tag:noindex
X-PUBLISHED-TTL:PT1H
BEGIN:VTIMEZONE
TZID:America/Chicago
BEGIN:DAYLIGHT
TZOFFSETFROM:-0600
TZOFFSETTO:-0500
TZNAME:CDT
DTSTART:20250309T080000
END:DAYLIGHT
BEGIN:STANDARD
TZOFFSETFROM:-0500
TZOFFSETTO:-0600
TZNAME:CST
DTSTART:20251102T070000
END:STANDARD
BEGIN:DAYLIGHT
TZOFFSETFROM:-0600
TZOFFSETTO:-0500
TZNAME:CDT
DTSTART:20260308T080000
END:DAYLIGHT
BEGIN:STANDARD
TZOFFSETFROM:-0500
TZOFFSETTO:-0600
TZNAME:CST
DTSTART:20261101T070000
END:STANDARD
BEGIN:DAYLIGHT
TZOFFSETFROM:-0600
TZOFFSETTO:-0500
TZNAME:CDT
DTSTART:20270314T080000
END:DAYLIGHT
BEGIN:STANDARD
TZOFFSETFROM:-0500
TZOFFSETTO:-0600
TZNAME:CST
DTSTART:20271107T070000
END:STANDARD
END:VTIMEZONE
BEGIN:VEVENT
DTSTART;TZID=America/Chicago:20260206T130000
DTEND;TZID=America/Chicago:20260206T140000
DTSTAMP:20260421T082500
CREATED:20260202T153615Z
LAST-MODIFIED:20260202T153615Z
UID:16111-1770382800-1770386400@sharing.life
SUMMARY:Earned Income Tax Credit (EITC) Awareness Day
DESCRIPTION:Join Us for Earned Income Tax Credit (EITC) Awareness Day \nThe Earned Income Tax Credit (EITC) helps low- to moderate-income workers and families get a tax break. If you qualify\, you can use the credit to reduce the taxes you owe – and maybe increase your refund. \nDate: Friday\, February 6\, 2026 \nTime: 1:00 pm to 2:00 pm \nLocation: Sharing Life Community Outreach\, 3795 W. Emporium Circle\, Mesquite\, TX 75150 \nWe’re proud to welcome elected officials and community leaders who will be in attendance to stand with our community and support access to these important resources. This credit can make a real difference\, helping families pay for essentials\, build stability\, and plan for the future. \nFor more information\, please email Beth@Sharing.Life
URL:https://sharing.life/event/earned-income-tax-credit-eitc-awareness-day/
LOCATION:Sharing Life Community Outreach\, Sharing Life 3795 W. Emporium Circle\, Mesquite\, Texas\, 75150
ATTACH;FMTTYPE=image/png:https://sharing.life/wp-content/uploads/EITC-Awareness-Day-2026.png
END:VEVENT
END:VCALENDAR