BEGIN:VCALENDAR
VERSION:2.0
PRODID:-//Sharing Life Community Outreach - ECPv6.15.19//NONSGML v1.0//EN
CALSCALE:GREGORIAN
METHOD:PUBLISH
X-ORIGINAL-URL:https://sharing.life
X-WR-CALDESC:Events for Sharing Life Community Outreach
REFRESH-INTERVAL;VALUE=DURATION:PT1H
X-Robots-Tag:noindex
X-PUBLISHED-TTL:PT1H
BEGIN:VTIMEZONE
TZID:America/Chicago
BEGIN:DAYLIGHT
TZOFFSETFROM:-0600
TZOFFSETTO:-0500
TZNAME:CDT
DTSTART:20250309T080000
END:DAYLIGHT
BEGIN:STANDARD
TZOFFSETFROM:-0500
TZOFFSETTO:-0600
TZNAME:CST
DTSTART:20251102T070000
END:STANDARD
BEGIN:DAYLIGHT
TZOFFSETFROM:-0600
TZOFFSETTO:-0500
TZNAME:CDT
DTSTART:20260308T080000
END:DAYLIGHT
BEGIN:STANDARD
TZOFFSETFROM:-0500
TZOFFSETTO:-0600
TZNAME:CST
DTSTART:20261101T070000
END:STANDARD
BEGIN:DAYLIGHT
TZOFFSETFROM:-0600
TZOFFSETTO:-0500
TZNAME:CDT
DTSTART:20270314T080000
END:DAYLIGHT
BEGIN:STANDARD
TZOFFSETFROM:-0500
TZOFFSETTO:-0600
TZNAME:CST
DTSTART:20271107T070000
END:STANDARD
END:VTIMEZONE
BEGIN:VEVENT
DTSTART;TZID=America/Chicago:20260217T120000
DTEND;TZID=America/Chicago:20260217T130000
DTSTAMP:20260421T055530
CREATED:20260216T172846Z
LAST-MODIFIED:20260216T172846Z
UID:16176-1771329600-1771333200@sharing.life
SUMMARY:Love Your Heart - Nutrition Workshop
DESCRIPTION:Love Your Heart! Nutrition Basics for a Healthy Heart \nDate: Tuesday\, February 17\, 2026 \nTime: 12:00 pm to 1:00 pm \nLocation: Dallas College – West Dallas Center\, Room W142\, 3330 N Hampton Rd\, Dallas 75212 \nTopics will include: \n\nNutrition basics for everyday meals\nFoods that support heart health\nTips to reduce salt\, sugar\, and unhealthy fats\nHeart-healthy recipes you can try at home\nFeaturing Special Guest Speakers from Global CPR Training\n\nFor more information\, please contact us: www.sharing.life/gethealthy | gethealthy@sharing.life | 972-285-5819
URL:https://sharing.life/event/love-your-heart-nutrition-workshop/
LOCATION:Dallas College\, 3330 N Hampton Rd\, Dallas\, TX\, 75212\, United States
ATTACH;FMTTYPE=image/png:https://sharing.life/wp-content/uploads/Feast-of-Sharing-11-20-2025-5.png
END:VEVENT
END:VCALENDAR