BEGIN:VCALENDAR
VERSION:2.0
PRODID:-//Sharing Life Community Outreach - ECPv6.15.19//NONSGML v1.0//EN
CALSCALE:GREGORIAN
METHOD:PUBLISH
X-WR-CALNAME:Sharing Life Community Outreach
X-ORIGINAL-URL:https://sharing.life
X-WR-CALDESC:Events for Sharing Life Community Outreach
REFRESH-INTERVAL;VALUE=DURATION:PT1H
X-Robots-Tag:noindex
X-PUBLISHED-TTL:PT1H
BEGIN:VTIMEZONE
TZID:America/Chicago
BEGIN:DAYLIGHT
TZOFFSETFROM:-0600
TZOFFSETTO:-0500
TZNAME:CDT
DTSTART:20250309T080000
END:DAYLIGHT
BEGIN:STANDARD
TZOFFSETFROM:-0500
TZOFFSETTO:-0600
TZNAME:CST
DTSTART:20251102T070000
END:STANDARD
BEGIN:DAYLIGHT
TZOFFSETFROM:-0600
TZOFFSETTO:-0500
TZNAME:CDT
DTSTART:20260308T080000
END:DAYLIGHT
BEGIN:STANDARD
TZOFFSETFROM:-0500
TZOFFSETTO:-0600
TZNAME:CST
DTSTART:20261101T070000
END:STANDARD
BEGIN:DAYLIGHT
TZOFFSETFROM:-0600
TZOFFSETTO:-0500
TZNAME:CDT
DTSTART:20270314T080000
END:DAYLIGHT
BEGIN:STANDARD
TZOFFSETFROM:-0500
TZOFFSETTO:-0600
TZNAME:CST
DTSTART:20271107T070000
END:STANDARD
END:VTIMEZONE
BEGIN:VEVENT
DTSTART;TZID=America/Chicago:20260401T080000
DTEND;TZID=America/Chicago:20260430T170000
DTSTAMP:20260421T043117
CREATED:20260401T162743Z
LAST-MODIFIED:20260401T162840Z
UID:16699-1775030400-1777568400@sharing.life
SUMMARY:BJ's Wholesale Club $15 Membership & Fundraiser
DESCRIPTION:A NEW BJ’s Wholesale Club is coming soon to Mesquite\, and you can take advantage of an exclusive membership offer through April 30th. \nFor a limited time\, get a 12-month membership for only $15Use Sharing Life code: 829051 \nSign up by:• Scanning the QR code• Visiting: www.bjs.com/partner/sharinglife• Calling: 800-313-8887 \nMembership perks include:• Up to 25% off grocery store prices• Save an average of 20¢ per gallon with BJ’s Gas®• Delivery\, pickup\, and shipping options are available \nEven better\, your membership does not start until the stores open. \n• The first location will open in Forney\, followed by Mesquite• Estimated opening: April or May 2026 \nAdditional locations can be found here: https://www.bjs.com/clubLocatorDetail. \nGet ahead of the savings and be ready when doors open!
URL:https://sharing.life/event/bjs-wholesale-club-15-membership-fundraiser/
LOCATION:BJs Wholesale Club\, 4355 Childress Ave\, Mesquite\, TX\, 75150
ATTACH;FMTTYPE=image/png:https://sharing.life/wp-content/uploads/Feast-of-Sharing-11-20-2025-14.png
ORGANIZER;CN="Sharing Life & BJ's Wholesale Club":MAILTO:kristin@sharing.life
END:VEVENT
BEGIN:VEVENT
DTSTART;TZID=America/Chicago:20260421T100000
DTEND;TZID=America/Chicago:20260421T133000
DTSTAMP:20260421T043117
CREATED:20260401T181233Z
LAST-MODIFIED:20260401T210043Z
UID:16731-1776765600-1776778200@sharing.life
SUMMARY:Breastfeeding Support
DESCRIPTION:Join our NEW breastfeeding support with Mother’s Magical Milk on Tuesdays from 10:00 am to 1:30 pm. Families can receive breastfeeding support\, pumping guidance\, infant feeding consultations\, and return-to-work planning in a judgement-free and compassionate setting at Sharing Life. \nFor those that want to support our future missions\, please purchase items from our Amazon Wishlist: bit.ly/firstfoodsforward. \nTo schedule your appointment\, please scan the QR code or click here: https://mothersmagicalmilk.intakeq.com/booking?locationId=21.
URL:https://sharing.life/event/breast-feeding-support-6/
LOCATION:Sharing Life Community Outreach\, Sharing Life 3795 W. Emporium Circle\, Mesquite\, Texas\, 75150
ATTACH;FMTTYPE=image/png:https://sharing.life/wp-content/uploads/Feast-of-Sharing-11-20-2025-18.png
ORGANIZER;CN="Mother's Magical Milk & Sharing Life":MAILTO:firstfoodsclinic@gmail.com
END:VEVENT
BEGIN:VEVENT
DTSTART;TZID=America/Chicago:20260421T110000
DTEND;TZID=America/Chicago:20260421T120000
DTSTAMP:20260421T043117
CREATED:20260401T195105Z
LAST-MODIFIED:20260401T202605Z
UID:16754-1776769200-1776772800@sharing.life
SUMMARY:Virtual Prenatal Breastfeeding Class
DESCRIPTION:FREE virtual prenatal breastfeeding class. \nWe will discuss how breastfeeding works\, common challenges and solutions\, latching\, and MORE! Please view the flyer below for more information and scan the QR code to register. \nClass Link: https://us06web.zoom.us/meeting/register/3zgzMESUQxazIOCTWPQUEw#/registration \nWe look forward to seeing you online April 21st at 11:00 AM.
URL:https://sharing.life/event/virtual-prenatal-breastfeeding-class/
LOCATION:Online
ATTACH;FMTTYPE=image/png:https://sharing.life/wp-content/uploads/Feast-of-Sharing-11-20-2025-21.png
ORGANIZER;CN="Mother's Magical Milk & Sharing Life":MAILTO:firstfoodsclinic@gmail.com
END:VEVENT
END:VCALENDAR