BEGIN:VCALENDAR
VERSION:2.0
PRODID:-//Sharing Life Community Outreach - ECPv6.15.19//NONSGML v1.0//EN
CALSCALE:GREGORIAN
METHOD:PUBLISH
X-WR-CALNAME:Sharing Life Community Outreach
X-ORIGINAL-URL:https://sharing.life
X-WR-CALDESC:Events for Sharing Life Community Outreach
REFRESH-INTERVAL;VALUE=DURATION:PT1H
X-Robots-Tag:noindex
X-PUBLISHED-TTL:PT1H
BEGIN:VTIMEZONE
TZID:America/Chicago
BEGIN:DAYLIGHT
TZOFFSETFROM:-0600
TZOFFSETTO:-0500
TZNAME:CDT
DTSTART:20240310T080000
END:DAYLIGHT
BEGIN:STANDARD
TZOFFSETFROM:-0500
TZOFFSETTO:-0600
TZNAME:CST
DTSTART:20241103T070000
END:STANDARD
BEGIN:DAYLIGHT
TZOFFSETFROM:-0600
TZOFFSETTO:-0500
TZNAME:CDT
DTSTART:20250309T080000
END:DAYLIGHT
BEGIN:STANDARD
TZOFFSETFROM:-0500
TZOFFSETTO:-0600
TZNAME:CST
DTSTART:20251102T070000
END:STANDARD
BEGIN:DAYLIGHT
TZOFFSETFROM:-0600
TZOFFSETTO:-0500
TZNAME:CDT
DTSTART:20260308T080000
END:DAYLIGHT
BEGIN:STANDARD
TZOFFSETFROM:-0500
TZOFFSETTO:-0600
TZNAME:CST
DTSTART:20261101T070000
END:STANDARD
END:VTIMEZONE
BEGIN:VEVENT
DTSTART;TZID=America/Chicago:20250416T100000
DTEND;TZID=America/Chicago:20250416T120000
DTSTAMP:20260421T130557
CREATED:20250327T143523Z
LAST-MODIFIED:20250403T192605Z
UID:14920-1744797600-1744804800@sharing.life
SUMMARY:4/16 Orientation – Forklift Training Program
DESCRIPTION:Join Us for the Mandatory Orientation for the OSHA-Compliant Forklift Training Program – Fast Track Edition! \nWe’re excited to invite you to the Mandatory Orientation Session for our OSHA-Compliant Forklift Training Program – Fast Track Edition\, brought to you by Dallas College! This important orientation is the first step toward earning your forklift certification and is required to participate in the 2-day\, hands-on training that will take place at the end of the last week of April. \nProgram Highlights: OSHA-Compliant Forklift Training\, Fast-track instruction\, Earn your Forklift Operator Certification\, Must be 18+ years old to participate\, Training & Job Placement Assistance Provided \nPlease note: The training will only take place if we meet the minimum required attendance. We encourage you to share this opportunity and invite others to join! We will keep you updated on whether the minimum attendance has been reached. \nDate: April 16\, 2025\nTime: 10 AM – 12 PM\nLocation: Sharing Life\n3795 W. Emporium Circle\nMesquite\, TX 75150 \nRegister Today
URL:https://sharing.life/event/4-16-orientation-forklift-training-program/
LOCATION:Sharing Life Community Outreach\, Sharing Life 3795 W. Emporium Circle\, Mesquite\, Texas\, 75150
ATTACH;FMTTYPE=image/png:https://sharing.life/wp-content/uploads/Banners-8.png
END:VEVENT
BEGIN:VEVENT
DTSTART;TZID=America/Chicago:20250411T150000
DTEND;TZID=America/Chicago:20250411T160000
DTSTAMP:20260421T130557
CREATED:20250402T155410Z
LAST-MODIFIED:20250407T193917Z
UID:15094-1744383600-1744387200@sharing.life
SUMMARY:4/11 Clase de Presupuesto y Finanzas
DESCRIPTION:¡No te lo pierdas! Clase de Presupuesto y Finanzas en Persona! Aprende a manejar mejor tu dinero\, hacer un presupuesto y alcanzar tus metas financieras! \nFecha: Viernes 11 de abril de 2025\nHora: a las 3 PM\nUbicacion: Clase será virtual a través de la aplicación de Zoom. ¡Regístrate y te mandaremos el enlace! Tambien nos puedes mandar un correo a sofia@sharing.life \nMandanos un correo aqui\n \n\n 
URL:https://sharing.life/event/4-11-clase-de-presupuesto-y-finanzas/
LOCATION:Texas
ATTACH;FMTTYPE=image/png:https://sharing.life/wp-content/uploads/Banners-4-1.png
END:VEVENT
BEGIN:VEVENT
DTSTART;TZID=America/Chicago:20250404T150000
DTEND;TZID=America/Chicago:20250404T160000
DTSTAMP:20260421T130557
CREATED:20250401T201802Z
LAST-MODIFIED:20250402T184701Z
UID:15074-1743778800-1743782400@sharing.life
SUMMARY:4/4 Join Us for the Financial Planning Seminar!
DESCRIPTION:Are you ready to take control of your finances? Don’t miss this FREE seminar where you’ll learn essential money management skills to build a secure future! Learn: Budgeting Tips for Success\, Retirement Strategies\, Investing Basics \nDate: April 4\, 2025\nTime: 3 PM\nLocation: Sharing Life\n3795 W. Emporium Circle\nMesquite\, TX 75150 \nEmail Us Here
URL:https://sharing.life/event/4-4-join-us-for-the-financial-planning-seminar/
LOCATION:Sharing Life Community Outreach\, Sharing Life 3795 W. Emporium Circle\, Mesquite\, Texas\, 75150
ATTACH;FMTTYPE=image/png:https://sharing.life/wp-content/uploads/Banners-3-1.png
END:VEVENT
BEGIN:VEVENT
DTSTART;TZID=America/Chicago:20250329T100000
DTEND;TZID=America/Chicago:20250329T130000
DTSTAMP:20260421T130557
CREATED:20250327T161447Z
LAST-MODIFIED:20250327T162317Z
UID:14963-1743242400-1743253200@sharing.life
SUMMARY:3/29 Hand Bags For Hope - Designer Bingo
DESCRIPTION:Join us for a fun-filled morning of brunch\, mimosas\, and bingo—all for a great cause! Hosted by the Friends of Sharing Life\, this exciting event gives guests the chance to win stunning designer handbags while supporting a mission that changes lives. \nDate: Saturday\, March 29th\, 2025\nTime: 10:00 AM – 1:00 PM\nVenue: The Story at 410 S Paschall Road Sunnyvale\, TX 75182 \nRegister Today
URL:https://sharing.life/event/3-29-hand-bags-for-hope-designer-bingo/
LOCATION:The Story\, 410 S Paschall Road\, Sunnyvale\, Texas\, 75182
ATTACH;FMTTYPE=image/png:https://sharing.life/wp-content/uploads/Banners-2-1.png
END:VEVENT
BEGIN:VEVENT
DTSTART;TZID=America/Chicago:20250328T150000
DTEND;TZID=America/Chicago:20250328T170000
DTSTAMP:20260421T130557
CREATED:20250327T160108Z
LAST-MODIFIED:20250327T160418Z
UID:14950-1743174000-1743181200@sharing.life
SUMMARY:3/28 Clase de Presupuesto y Finanzas en Persona
DESCRIPTION:¡No te lo pierdas! Clase de Presupuesto y Finanzas en Persona! Aprende a manejar mejor tu dinero\, hacer un presupuesto y alcanzar tus metas financieras! \nFecha: Viernes 28 de marzo de 2025\nHora: a las 3 PM\nUbicacion: Sharing Life\n3795 W. Emporium Circle\nMesquite\, TX 75150
URL:https://sharing.life/event/3-28-clase-de-presupuesto-y-finanzas-en-persona/
LOCATION:Sharing Life Community Outreach\, Sharing Life 3795 W. Emporium Circle\, Mesquite\, Texas\, 75150
ATTACH;FMTTYPE=image/png:https://sharing.life/wp-content/uploads/Banners-1-2.png
END:VEVENT
END:VCALENDAR