BEGIN:VCALENDAR
VERSION:2.0
PRODID:-//Sharing Life Community Outreach - ECPv6.15.19//NONSGML v1.0//EN
CALSCALE:GREGORIAN
METHOD:PUBLISH
X-ORIGINAL-URL:https://sharing.life
X-WR-CALDESC:Events for Sharing Life Community Outreach
REFRESH-INTERVAL;VALUE=DURATION:PT1H
X-Robots-Tag:noindex
X-PUBLISHED-TTL:PT1H
BEGIN:VTIMEZONE
TZID:America/Chicago
BEGIN:DAYLIGHT
TZOFFSETFROM:-0600
TZOFFSETTO:-0500
TZNAME:CDT
DTSTART:20250309T080000
END:DAYLIGHT
BEGIN:STANDARD
TZOFFSETFROM:-0500
TZOFFSETTO:-0600
TZNAME:CST
DTSTART:20251102T070000
END:STANDARD
BEGIN:DAYLIGHT
TZOFFSETFROM:-0600
TZOFFSETTO:-0500
TZNAME:CDT
DTSTART:20260308T080000
END:DAYLIGHT
BEGIN:STANDARD
TZOFFSETFROM:-0500
TZOFFSETTO:-0600
TZNAME:CST
DTSTART:20261101T070000
END:STANDARD
BEGIN:DAYLIGHT
TZOFFSETFROM:-0600
TZOFFSETTO:-0500
TZNAME:CDT
DTSTART:20270314T080000
END:DAYLIGHT
BEGIN:STANDARD
TZOFFSETFROM:-0500
TZOFFSETTO:-0600
TZNAME:CST
DTSTART:20271107T070000
END:STANDARD
END:VTIMEZONE
BEGIN:VEVENT
DTSTART;TZID=America/Chicago:20260428T100000
DTEND;TZID=America/Chicago:20260428T133000
DTSTAMP:20260421T141334
CREATED:20260401T181302Z
LAST-MODIFIED:20260401T205942Z
UID:16733-1777370400-1777383000@sharing.life
SUMMARY:Breastfeeding Support
DESCRIPTION:Join our NEW breastfeeding support with Mother’s Magical Milk on Tuesdays from 10:00 am to 1:30 pm. Families can receive breastfeeding support\, pumping guidance\, infant feeding consultations\, and return-to-work planning in a judgement-free and compassionate setting at Sharing Life. \nFor those that want to support our future missions\, please purchase items from our Amazon Wishlist: bit.ly/firstfoodsforward. \nTo schedule your appointment\, please scan the QR code or click here: https://mothersmagicalmilk.intakeq.com/booking?locationId=21.
URL:https://sharing.life/event/breast-feeding-support-7/
LOCATION:Sharing Life Community Outreach\, Sharing Life 3795 W. Emporium Circle\, Mesquite\, Texas\, 75150
ATTACH;FMTTYPE=image/png:https://sharing.life/wp-content/uploads/Feast-of-Sharing-11-20-2025-18.png
ORGANIZER;CN="Mother's Magical Milk & Sharing Life":MAILTO:firstfoodsclinic@gmail.com
END:VEVENT
BEGIN:VEVENT
DTSTART;TZID=America/Chicago:20260428T123000
DTEND;TZID=America/Chicago:20260428T133000
DTSTAMP:20260421T141334
CREATED:20260401T192233Z
LAST-MODIFIED:20260406T164433Z
UID:16746-1777379400-1777383000@sharing.life
SUMMARY:Financial Class Presented by Bank of America
DESCRIPTION:April is National Financial Literacy Month!  \n\nTake control of your finances. Join us April 28th from 4:00 to 5:00 PM for our FREE financial class at Sharing Life presented by Bank of America.\n\n\n\nWhat to expect:\n· Simple Explanations for Budgeting\n· Real-Life Examples\n· Interactive Learning\n\n\n\nDon’t miss this opportunity to grow your financial knowledge.\n\nFor more information on upcoming financial classes\, please email Beth@Sharing.Life.
URL:https://sharing.life/event/financial-class-presented-by-bank-of-america/
LOCATION:Sharing Life Community Outreach\, Sharing Life 3795 W. Emporium Circle\, Mesquite\, Texas\, 75150
ATTACH;FMTTYPE=image/png:https://sharing.life/wp-content/uploads/Feast-of-Sharing-11-20-2025-19.png
ORGANIZER;CN="America's Credit Union & Sharing Life":MAILTO:beth@sharing.life
END:VEVENT
END:VCALENDAR